BEGIN:VCALENDAR
VERSION:2.0
PRODID:-//Fundació Hospitalàries Sant Boi - ECPv6.15.15//NONSGML v1.0//EN
CALSCALE:GREGORIAN
METHOD:PUBLISH
X-WR-CALNAME:Fundació Hospitalàries Sant Boi
X-ORIGINAL-URL:https://www.fundaciohospitalariessantboi.org
X-WR-CALDESC:Esdeveniments per Fundació Hospitalàries Sant Boi
REFRESH-INTERVAL;VALUE=DURATION:PT1H
X-Robots-Tag:noindex
X-PUBLISHED-TTL:PT1H
BEGIN:VTIMEZONE
TZID:Europe/Madrid
BEGIN:DAYLIGHT
TZOFFSETFROM:+0100
TZOFFSETTO:+0200
TZNAME:CEST
DTSTART:20250330T010000
END:DAYLIGHT
BEGIN:STANDARD
TZOFFSETFROM:+0200
TZOFFSETTO:+0100
TZNAME:CET
DTSTART:20251026T010000
END:STANDARD
BEGIN:DAYLIGHT
TZOFFSETFROM:+0100
TZOFFSETTO:+0200
TZNAME:CEST
DTSTART:20260329T010000
END:DAYLIGHT
BEGIN:STANDARD
TZOFFSETFROM:+0200
TZOFFSETTO:+0100
TZNAME:CET
DTSTART:20261025T010000
END:STANDARD
BEGIN:DAYLIGHT
TZOFFSETFROM:+0100
TZOFFSETTO:+0200
TZNAME:CEST
DTSTART:20270328T010000
END:DAYLIGHT
BEGIN:STANDARD
TZOFFSETFROM:+0200
TZOFFSETTO:+0100
TZNAME:CET
DTSTART:20271031T010000
END:STANDARD
END:VTIMEZONE
BEGIN:VEVENT
DTSTART;TZID=Europe/Madrid:20260427T080000
DTEND;TZID=Europe/Madrid:20260427T170000
DTSTAMP:20260420T184202
CREATED:20260420T113252Z
LAST-MODIFIED:20260420T113734Z
UID:10000086-1777276800-1777309200@www.fundaciohospitalariessantboi.org
SUMMARY:Webinar RESTART: L’esport com a eina clau en la intervenció en addiccions.
DESCRIPTION:El proper 27 d’abril\, de 11.30h a 12.30h es realitzarà un webinar sobre el projecte RESTART\, “L’esport com a eina clau en la intervenció en addiccions”. \nEl projecte RESTART\, format per cinc socis d’Espanya\, Itàlia\, Portugal i Àustria\, té com a objectiu promoure la pràctica d’esport rehabilitador en els serveis terapèutics per a persones que pateixen addiccions tradicionals i modernes de l’àmbit digital. \nConnecta’t través de Teams! \nTrobaràs el programa aquí a sota! \nWebinar Restart CAT (2)
URL:https://www.fundaciohospitalariessantboi.org/esdeveniment/webinar-restart-lesport-com-a-eina-clau-en-la-intervencio-en-addiccions/
LOCATION:Online
ATTACH;FMTTYPE=image/png:https://www.fundaciohospitalariessantboi.org/wp-content/uploads/2026/04/NOU-BANNERS-INTRANET-47.png
END:VEVENT
END:VCALENDAR