BEGIN:VCALENDAR
VERSION:2.0
PRODID:-//Fundació Hospitalàries Sant Boi - ECPv6.15.15//NONSGML v1.0//EN
CALSCALE:GREGORIAN
METHOD:PUBLISH
X-ORIGINAL-URL:https://www.fundaciohospitalariessantboi.org
X-WR-CALDESC:Eventos para Fundació Hospitalàries Sant Boi
REFRESH-INTERVAL;VALUE=DURATION:PT1H
X-Robots-Tag:noindex
X-PUBLISHED-TTL:PT1H
BEGIN:VTIMEZONE
TZID:Europe/Madrid
BEGIN:DAYLIGHT
TZOFFSETFROM:+0100
TZOFFSETTO:+0200
TZNAME:CEST
DTSTART:20240331T010000
END:DAYLIGHT
BEGIN:STANDARD
TZOFFSETFROM:+0200
TZOFFSETTO:+0100
TZNAME:CET
DTSTART:20241027T010000
END:STANDARD
BEGIN:DAYLIGHT
TZOFFSETFROM:+0100
TZOFFSETTO:+0200
TZNAME:CEST
DTSTART:20250330T010000
END:DAYLIGHT
BEGIN:STANDARD
TZOFFSETFROM:+0200
TZOFFSETTO:+0100
TZNAME:CET
DTSTART:20251026T010000
END:STANDARD
BEGIN:DAYLIGHT
TZOFFSETFROM:+0100
TZOFFSETTO:+0200
TZNAME:CEST
DTSTART:20260329T010000
END:DAYLIGHT
BEGIN:STANDARD
TZOFFSETFROM:+0200
TZOFFSETTO:+0100
TZNAME:CET
DTSTART:20261025T010000
END:STANDARD
END:VTIMEZONE
BEGIN:VEVENT
DTSTART;TZID=Europe/Madrid:20250314T083000
DTEND;TZID=Europe/Madrid:20250314T140000
DTSTAMP:20260420T015856
CREATED:20250221T095508Z
LAST-MODIFIED:20250226T114537Z
UID:10000021-1741941000-1741960800@www.fundaciohospitalariessantboi.org
SUMMARY:I Jornada de Enfermería: “Enfermería en Salud Mental: Reflexión\, especialización y proyección”
DESCRIPTION:Programa I Jornada Enfermería – FH Sant Boi \nInscripciones \nCon esta I Jornada de Enfermería\, desde la Fundació Hospitalàries Sant Boi\, antes Benito Menni CASM\, queremos dar a conocer y poner en valor\, de la mano de especialistas y residentes\, la labor de enfermería en los diferentes dispositivos de la red de salud mental. \nBajo el título “Enfermería en Salud Mental: Reflexión\, especialización y proyección”\, la jornada está dirigida a profesionales sanitarios y futuros enfermeros especialistas. \nEn este evento\, se invitará a una reflexión sobre el recorrido de la especialidad\, el inicio de esta\, el ahora y hacia dónde queremos llegar como profesionales en un campo tan específico como es la salud mental. \nA través de ponencias y coloquios\, hablaremos sobre las prácticas actuales y la necessidad de una especialización contínua para conseguir nuevas proyecciones. \nAdemás\, también habrá espacio para el humor\, llegando a conocer el día a día de neustros residentes.
URL:https://www.fundaciohospitalariessantboi.org/esdeveniment/i-jornada-de-enfermeria-enfermeria-en-salud-mental-reflexion-especializacion-y-proyeccion/
LOCATION:Sala d’Actes de la Fundació Hospitalàries Sant Boi\, C/ Dr. Antoni Pujadas 38\, Sant Boi de Llobregat\, Barcelona\, 08830\, Espanya
ATTACH;FMTTYPE=image/png:https://www.fundaciohospitalariessantboi.org/wp-content/uploads/2025/02/Banner-I-Jornada-Infermeria-CAST.png
END:VEVENT
END:VCALENDAR