BEGIN:VCALENDAR
VERSION:2.0
PRODID:-//Fundació Hospitalàries Sant Boi - ECPv6.15.15//NONSGML v1.0//EN
CALSCALE:GREGORIAN
METHOD:PUBLISH
X-ORIGINAL-URL:https://www.fundaciohospitalariessantboi.org
X-WR-CALDESC:Eventos para Fundació Hospitalàries Sant Boi
REFRESH-INTERVAL;VALUE=DURATION:PT1H
X-Robots-Tag:noindex
X-PUBLISHED-TTL:PT1H
BEGIN:VTIMEZONE
TZID:Europe/Madrid
BEGIN:DAYLIGHT
TZOFFSETFROM:+0100
TZOFFSETTO:+0200
TZNAME:CEST
DTSTART:20240331T010000
END:DAYLIGHT
BEGIN:STANDARD
TZOFFSETFROM:+0200
TZOFFSETTO:+0100
TZNAME:CET
DTSTART:20241027T010000
END:STANDARD
BEGIN:DAYLIGHT
TZOFFSETFROM:+0100
TZOFFSETTO:+0200
TZNAME:CEST
DTSTART:20250330T010000
END:DAYLIGHT
BEGIN:STANDARD
TZOFFSETFROM:+0200
TZOFFSETTO:+0100
TZNAME:CET
DTSTART:20251026T010000
END:STANDARD
BEGIN:DAYLIGHT
TZOFFSETFROM:+0100
TZOFFSETTO:+0200
TZNAME:CEST
DTSTART:20260329T010000
END:DAYLIGHT
BEGIN:STANDARD
TZOFFSETFROM:+0200
TZOFFSETTO:+0100
TZNAME:CET
DTSTART:20261025T010000
END:STANDARD
END:VTIMEZONE
BEGIN:VEVENT
DTSTART;TZID=Europe/Madrid:20250318T090000
DTEND;TZID=Europe/Madrid:20250318T140000
DTSTAMP:20260420T015855
CREATED:20250206T143720Z
LAST-MODIFIED:20250306T154017Z
UID:10000018-1742288400-1742306400@www.fundaciohospitalariessantboi.org
SUMMARY:Jornada: Violencia en la mujer con especial vulnerabilidad. Realidad y abordaje
DESCRIPTION:Fundación Hospitalarias organiza la Jornada Violencia en la mujer con especial vulnerabilidad. Realidad y abordaje. Caminando hacia una vida sin violencia\, desde la diferencia el próximo 18 de marzo.  Se trata de una actividad de sensibilización abierta al público general\, financiada parcialmente por el Ministerio de Igualdad. \nEl objetivo principal es profundizar en cómo impacta la violencia de género en aquellas mujeres con especial vulnerabilidad\, cómo prevenirla\, detectarla y abordar las secuelas derivadas de esta violencia. En concreto se pondrá el foco en:  Salud mental infanto-juvenil\, Discapacidad intelectual\, Daño Cerebral Adquirido y Psicogeriatría/ Deterioro Cognitivo. Puedes consultar aquí el programa completo. \nEl formato de la jornada es híbrido: \n\nPresencialmente en Barcelona (Fundació Hospitalàries Barcelona. Pg. Vall d’Hebron 107-117). Plazas limitadas hasta completar aforo.\nOnline en directo a través de nuestro canal de YouTube.\n\nSi estás interesado/a en asistir\, inscríbete aquí hasta el 17 de marzo. No olvides indicar en qué modalidad seguirás la jornada\, presencial u online. \nUn cordial saludo\,
URL:https://www.fundaciohospitalariessantboi.org/esdeveniment/i-jornada-de-enfermeria/
LOCATION:Format Híbrid
ATTACH;FMTTYPE=image/jpeg:https://www.fundaciohospitalariessantboi.org/wp-content/uploads/2025/02/jornada-1803.jpg
END:VEVENT
END:VCALENDAR