BEGIN:VCALENDAR
VERSION:2.0
PRODID:-//Fundació Hospitalàries Sant Boi - ECPv6.15.15//NONSGML v1.0//EN
CALSCALE:GREGORIAN
METHOD:PUBLISH
X-WR-CALNAME:Fundació Hospitalàries Sant Boi
X-ORIGINAL-URL:https://www.fundaciohospitalariessantboi.org
X-WR-CALDESC:Eventos para Fundació Hospitalàries Sant Boi
REFRESH-INTERVAL;VALUE=DURATION:PT1H
X-Robots-Tag:noindex
X-PUBLISHED-TTL:PT1H
BEGIN:VTIMEZONE
TZID:Europe/Madrid
BEGIN:DAYLIGHT
TZOFFSETFROM:+0100
TZOFFSETTO:+0200
TZNAME:CEST
DTSTART:20240331T010000
END:DAYLIGHT
BEGIN:STANDARD
TZOFFSETFROM:+0200
TZOFFSETTO:+0100
TZNAME:CET
DTSTART:20241027T010000
END:STANDARD
BEGIN:DAYLIGHT
TZOFFSETFROM:+0100
TZOFFSETTO:+0200
TZNAME:CEST
DTSTART:20250330T010000
END:DAYLIGHT
BEGIN:STANDARD
TZOFFSETFROM:+0200
TZOFFSETTO:+0100
TZNAME:CET
DTSTART:20251026T010000
END:STANDARD
BEGIN:DAYLIGHT
TZOFFSETFROM:+0100
TZOFFSETTO:+0200
TZNAME:CEST
DTSTART:20260329T010000
END:DAYLIGHT
BEGIN:STANDARD
TZOFFSETFROM:+0200
TZOFFSETTO:+0100
TZNAME:CET
DTSTART:20261025T010000
END:STANDARD
END:VTIMEZONE
BEGIN:VEVENT
DTSTART;TZID=Europe/Madrid:20250411T083000
DTEND;TZID=Europe/Madrid:20250411T140000
DTSTAMP:20260420T003744
CREATED:20250317T090708Z
LAST-MODIFIED:20250410T073248Z
UID:10000025-1744360200-1744380000@www.fundaciohospitalariessantboi.org
SUMMARY:IX Jornadas de Salud Mental del Área de l’Hospitalet
DESCRIPTION:Coordinación efectiva para una atención centrada en la persona: ¿cómo lo hacemos? \nDando continuidad a las Jornadas de Salud Mental del Área de l’Hospitalet del año pasado\, centradas en el Modelo de Recuperación\, este año queremos tratar como estamos implementando este modelo en nuestra ciudad y como lo garantizamos mediante la atención transversal entre los diferentes proveedores de servicios de salud mental de la zona. \nA la vez\, como este modelo pone en el centro la atención a las personas usuarias y sus familias\, serán ellas las protagonistas\, junto con los profesionales y los representantes del ámbito de la gestión\, tanto de CatSalut\, como del ICS y el Plan de Salud Mental del Ayuntamiento de l’Hospitalet de Llobregat. \nINSCRIPCIONES \nPROGRAMA
URL:https://www.fundaciohospitalariessantboi.org/esdeveniment/ix-jornadas-de-salud-mental-del-area-de-lhospitalet/
LOCATION:Auditori Barradas\, Rambla Just Oliveras\, 56\, L'Hospitalet de Llobregat\, Barcelona\, 08901\, Espanya
ATTACH;FMTTYPE=image/png:https://www.fundaciohospitalariessantboi.org/wp-content/uploads/2025/03/Banner-IX-Jornades-de-Salut-Mental-Area-de-lHospitalet.png
END:VEVENT
END:VCALENDAR