BEGIN:VCALENDAR
VERSION:2.0
PRODID:-//Fundació Hospitalàries Sant Boi - ECPv6.15.15//NONSGML v1.0//EN
CALSCALE:GREGORIAN
METHOD:PUBLISH
X-ORIGINAL-URL:https://www.fundaciohospitalariessantboi.org
X-WR-CALDESC:Eventos para Fundació Hospitalàries Sant Boi
REFRESH-INTERVAL;VALUE=DURATION:PT1H
X-Robots-Tag:noindex
X-PUBLISHED-TTL:PT1H
BEGIN:VTIMEZONE
TZID:Europe/Madrid
BEGIN:DAYLIGHT
TZOFFSETFROM:+0100
TZOFFSETTO:+0200
TZNAME:CEST
DTSTART:20240331T010000
END:DAYLIGHT
BEGIN:STANDARD
TZOFFSETFROM:+0200
TZOFFSETTO:+0100
TZNAME:CET
DTSTART:20241027T010000
END:STANDARD
BEGIN:DAYLIGHT
TZOFFSETFROM:+0100
TZOFFSETTO:+0200
TZNAME:CEST
DTSTART:20250330T010000
END:DAYLIGHT
BEGIN:STANDARD
TZOFFSETFROM:+0200
TZOFFSETTO:+0100
TZNAME:CET
DTSTART:20251026T010000
END:STANDARD
BEGIN:DAYLIGHT
TZOFFSETFROM:+0100
TZOFFSETTO:+0200
TZNAME:CEST
DTSTART:20260329T010000
END:DAYLIGHT
BEGIN:STANDARD
TZOFFSETFROM:+0200
TZOFFSETTO:+0100
TZNAME:CET
DTSTART:20261025T010000
END:STANDARD
END:VTIMEZONE
BEGIN:VEVENT
DTSTART;TZID=Europe/Madrid:20250425T123000
DTEND;TZID=Europe/Madrid:20250425T133000
DTSTAMP:20260420T003805
CREATED:20250410T114549Z
LAST-MODIFIED:20250410T114633Z
UID:10000033-1745584200-1745587800@www.fundaciohospitalariessantboi.org
SUMMARY:Presentación del 6to Documento del Comité de Ética Asistencial de FH Santo Boi: "Humanización y Salud Mental. Guía de Buenas Prácticas”
DESCRIPTION:El próximo 25 de abril\, a las 12:30 h\, se llevará a cabo la Presentación del 6to Documento del Comité de Ética Asistencial de Fundació Hospitalàries Sant Boi: «Humanización y Salud Mental. Guía de Buenas Prácticas”. \nOs animamos a acompañarnos en esta sexta edición\, donde compartiremos reflexiones y experiencias sobre como los principios éticos pueden guiar una atención más humana y próxima en el ámbito de la salud mental\, presentando ejemplos de buenas prácticas que demuestran el impacto positivo de un enfoque humanizado. \nENLACE CONEXIÓN ONLINE
URL:https://www.fundaciohospitalariessantboi.org/esdeveniment/presentacion-del-6to-documento-del-comite-de-etica-asistencial-de-fh-santo-boi-humanizacion-y-salud-mental-guia-de-buenas-practicas/
LOCATION:Acte híbrid
ATTACH;FMTTYPE=image/png:https://www.fundaciohospitalariessantboi.org/wp-content/uploads/2025/04/Presentacion-6to-Doc-CEA-CAST.png
END:VEVENT
END:VCALENDAR