BEGIN:VCALENDAR
VERSION:2.0
PRODID:-//Fundació Hospitalàries Sant Boi - ECPv6.15.15//NONSGML v1.0//EN
CALSCALE:GREGORIAN
METHOD:PUBLISH
X-ORIGINAL-URL:https://www.fundaciohospitalariessantboi.org
X-WR-CALDESC:Eventos para Fundació Hospitalàries Sant Boi
REFRESH-INTERVAL;VALUE=DURATION:PT1H
X-Robots-Tag:noindex
X-PUBLISHED-TTL:PT1H
BEGIN:VTIMEZONE
TZID:Europe/Madrid
BEGIN:DAYLIGHT
TZOFFSETFROM:+0100
TZOFFSETTO:+0200
TZNAME:CEST
DTSTART:20240331T010000
END:DAYLIGHT
BEGIN:STANDARD
TZOFFSETFROM:+0200
TZOFFSETTO:+0100
TZNAME:CET
DTSTART:20241027T010000
END:STANDARD
BEGIN:DAYLIGHT
TZOFFSETFROM:+0100
TZOFFSETTO:+0200
TZNAME:CEST
DTSTART:20250330T010000
END:DAYLIGHT
BEGIN:STANDARD
TZOFFSETFROM:+0200
TZOFFSETTO:+0100
TZNAME:CET
DTSTART:20251026T010000
END:STANDARD
BEGIN:DAYLIGHT
TZOFFSETFROM:+0100
TZOFFSETTO:+0200
TZNAME:CEST
DTSTART:20260329T010000
END:DAYLIGHT
BEGIN:STANDARD
TZOFFSETFROM:+0200
TZOFFSETTO:+0100
TZNAME:CET
DTSTART:20261025T010000
END:STANDARD
END:VTIMEZONE
BEGIN:VEVENT
DTSTART;TZID=Europe/Madrid:20251009T183000
DTEND;TZID=Europe/Madrid:20251009T200000
DTSTAMP:20260419T172612
CREATED:20250917T084234Z
LAST-MODIFIED:20250917T084438Z
UID:10000041-1760034600-1760040000@www.fundaciohospitalariessantboi.org
SUMMARY:Mesa Redonda: Mujeres y Salud Mental - Programación DMSM 2025
DESCRIPTION:Mesa Redonda: Mujeres y Salud Mental – Programación DMSM 2025 \nParticipación usuaria en 1a persona de Fundació Hospitalàries Sant Boi. \nAbierto al público general. Sin inscripción previa.
URL:https://www.fundaciohospitalariessantboi.org/esdeveniment/mesa-redonda-mujeres-y-salud-mental-programacion-dmsm-2025/
LOCATION:Biblioteca Jordi Rubió i Balaguer (sala d’actes)\, C/ Baldiri Aleu\, 6-8\, Sant Boi de Llobregat\, Barcelona\, 08830
ATTACH;FMTTYPE=image/png:https://www.fundaciohospitalariessantboi.org/wp-content/uploads/2025/09/Banner-Intranet-2025-09-17T103729.929.png
END:VEVENT
END:VCALENDAR