BEGIN:VCALENDAR
VERSION:2.0
PRODID:-//Fundació Hospitalàries Sant Boi - ECPv6.15.15//NONSGML v1.0//EN
CALSCALE:GREGORIAN
METHOD:PUBLISH
X-WR-CALNAME:Fundació Hospitalàries Sant Boi
X-ORIGINAL-URL:https://www.fundaciohospitalariessantboi.org
X-WR-CALDESC:Eventos para Fundació Hospitalàries Sant Boi
REFRESH-INTERVAL;VALUE=DURATION:PT1H
X-Robots-Tag:noindex
X-PUBLISHED-TTL:PT1H
BEGIN:VTIMEZONE
TZID:Europe/Madrid
BEGIN:DAYLIGHT
TZOFFSETFROM:+0100
TZOFFSETTO:+0200
TZNAME:CEST
DTSTART:20250330T010000
END:DAYLIGHT
BEGIN:STANDARD
TZOFFSETFROM:+0200
TZOFFSETTO:+0100
TZNAME:CET
DTSTART:20251026T010000
END:STANDARD
BEGIN:DAYLIGHT
TZOFFSETFROM:+0100
TZOFFSETTO:+0200
TZNAME:CEST
DTSTART:20260329T010000
END:DAYLIGHT
BEGIN:STANDARD
TZOFFSETFROM:+0200
TZOFFSETTO:+0100
TZNAME:CET
DTSTART:20261025T010000
END:STANDARD
BEGIN:DAYLIGHT
TZOFFSETFROM:+0100
TZOFFSETTO:+0200
TZNAME:CEST
DTSTART:20270328T010000
END:DAYLIGHT
BEGIN:STANDARD
TZOFFSETFROM:+0200
TZOFFSETTO:+0100
TZNAME:CET
DTSTART:20271031T010000
END:STANDARD
END:VTIMEZONE
BEGIN:VEVENT
DTSTART;TZID=Europe/Madrid:20260427T080000
DTEND;TZID=Europe/Madrid:20260427T170000
DTSTAMP:20260420T232922
CREATED:20260420T113637Z
LAST-MODIFIED:20260420T113909Z
UID:10000087-1777276800-1777309200@www.fundaciohospitalariessantboi.org
SUMMARY:Webinar RESTART: El deporte com herramienta clave en la intervención en adicciones.
DESCRIPTION:El próximo 27 de abril\, de 11.30h a 12.30h se realizará un webinar sobre el proyecto RESTART\, «El deporte como herramienta clave en la intervención en adicciones”. \nEl proyecto RESTART\, formado por cinco socios de España\, Italia\, Portugal y Austria\, tiene como objetivo promover la práctica de deporte rehabilitador en los servicios terapéuticos para personas que sufren adicciones tradicionales y modernas del ámbito digital. \n¡Conéctate través de Teams! \nEncontrarás el programa debajo: \nWebinar Restart CAST (2)
URL:https://www.fundaciohospitalariessantboi.org/esdeveniment/webinar-restart-el-deporte-com-herramienta-clave-en-la-intervencion-en-adicciones/
LOCATION:Barcelona
ATTACH;FMTTYPE=image/png:https://www.fundaciohospitalariessantboi.org/wp-content/uploads/2026/04/NOU-BANNERS-INTRANET-47.png
END:VEVENT
END:VCALENDAR