BEGIN:VCALENDAR
VERSION:2.0
PRODID:-//Fundació Hospitalàries Sant Boi - ECPv6.15.15//NONSGML v1.0//EN
CALSCALE:GREGORIAN
METHOD:PUBLISH
X-WR-CALNAME:Fundació Hospitalàries Sant Boi
X-ORIGINAL-URL:https://www.fundaciohospitalariessantboi.org
X-WR-CALDESC:Eventos para Fundació Hospitalàries Sant Boi
REFRESH-INTERVAL;VALUE=DURATION:PT1H
X-Robots-Tag:noindex
X-PUBLISHED-TTL:PT1H
BEGIN:VTIMEZONE
TZID:Europe/Madrid
BEGIN:DAYLIGHT
TZOFFSETFROM:+0100
TZOFFSETTO:+0200
TZNAME:CEST
DTSTART:20230326T010000
END:DAYLIGHT
BEGIN:STANDARD
TZOFFSETFROM:+0200
TZOFFSETTO:+0100
TZNAME:CET
DTSTART:20231029T010000
END:STANDARD
BEGIN:DAYLIGHT
TZOFFSETFROM:+0100
TZOFFSETTO:+0200
TZNAME:CEST
DTSTART:20240331T010000
END:DAYLIGHT
BEGIN:STANDARD
TZOFFSETFROM:+0200
TZOFFSETTO:+0100
TZNAME:CET
DTSTART:20241027T010000
END:STANDARD
BEGIN:DAYLIGHT
TZOFFSETFROM:+0100
TZOFFSETTO:+0200
TZNAME:CEST
DTSTART:20250330T010000
END:DAYLIGHT
BEGIN:STANDARD
TZOFFSETFROM:+0200
TZOFFSETTO:+0100
TZNAME:CET
DTSTART:20251026T010000
END:STANDARD
END:VTIMEZONE
BEGIN:VEVENT
DTSTART;TZID=Europe/Madrid:20241115T113000
DTEND;TZID=Europe/Madrid:20241115T123000
DTSTAMP:20260420T062556
CREATED:20241015T074804Z
LAST-MODIFIED:20241103T085203Z
UID:10000008-1731670200-1731673800@www.fundaciohospitalariessantboi.org
SUMMARY:III Jornada de Residentes Hermanas Hospitalarias
DESCRIPTION:Haz clic para consultar el Programa e Inscripciones
URL:https://www.fundaciohospitalariessantboi.org/esdeveniment/iii-jornada-de-residentes-hermanas-hospitalarias/
LOCATION:Parc del Pont de Matacavalls\, Pasarela Renfe Avenida Vilafranca\, Unnamed Road\, L'Hospitalet de Llobregat\, Barcelona\, 08901\, Espanya
ATTACH;FMTTYPE=image/png:https://www.fundaciohospitalariessantboi.org/wp-content/uploads/2024/10/Banner-III-Jornada-residents.png
END:VEVENT
END:VCALENDAR