BEGIN:VCALENDAR
VERSION:2.0
PRODID:-//Fundació Hospitalàries Sant Boi - ECPv6.15.15//NONSGML v1.0//EN
CALSCALE:GREGORIAN
METHOD:PUBLISH
X-WR-CALNAME:Fundació Hospitalàries Sant Boi
X-ORIGINAL-URL:https://www.fundaciohospitalariessantboi.org
X-WR-CALDESC:Eventos para Fundació Hospitalàries Sant Boi
REFRESH-INTERVAL;VALUE=DURATION:PT1H
X-Robots-Tag:noindex
X-PUBLISHED-TTL:PT1H
BEGIN:VTIMEZONE
TZID:Europe/Madrid
BEGIN:DAYLIGHT
TZOFFSETFROM:+0100
TZOFFSETTO:+0200
TZNAME:CEST
DTSTART:20240331T010000
END:DAYLIGHT
BEGIN:STANDARD
TZOFFSETFROM:+0200
TZOFFSETTO:+0100
TZNAME:CET
DTSTART:20241027T010000
END:STANDARD
BEGIN:DAYLIGHT
TZOFFSETFROM:+0100
TZOFFSETTO:+0200
TZNAME:CEST
DTSTART:20250330T010000
END:DAYLIGHT
BEGIN:STANDARD
TZOFFSETFROM:+0200
TZOFFSETTO:+0100
TZNAME:CET
DTSTART:20251026T010000
END:STANDARD
BEGIN:DAYLIGHT
TZOFFSETFROM:+0100
TZOFFSETTO:+0200
TZNAME:CEST
DTSTART:20260329T010000
END:DAYLIGHT
BEGIN:STANDARD
TZOFFSETFROM:+0200
TZOFFSETTO:+0100
TZNAME:CET
DTSTART:20261025T010000
END:STANDARD
END:VTIMEZONE
BEGIN:VEVENT
DTSTART;TZID=Europe/Madrid:20250509T083000
DTEND;TZID=Europe/Madrid:20250509T140000
DTSTAMP:20260419T214731
CREATED:20250324T082847Z
LAST-MODIFIED:20250428T135318Z
UID:10000031-1746779400-1746799200@www.fundaciohospitalariessantboi.org
SUMMARY:IV Jornadas de Hospitalización y Atención Domiciliaria
DESCRIPTION:Compromiso\, cuidado y apoyo a las personas en situación de vulnerabilidad. \nLas IV Jornadas de Hospitalización y Atención Domiciliaria tienen un enfoque especial en la atención comunitaria dirigida a los colectivos más vulnerables: personas mayores\, migrantes y personas con adicciones. \nEn un contexto donde los retos psicológicos afectan cada vez a más personas\, se vuelve imprescindible promover soluciones inclusivas y próximas que garanticen el bienestar de todo el mundo. \nA lo largo de este encuentro\, exploraremos como la hospitalización a domicilio y la atención personalizada en el entorno comunitario pueden transformar la calidad de vida de las personas. Para la población geriátrica abordaremos estrategias para combatir la soledad y fomentar la autonomía. En la mesa de migrantes reflexionaremos sobre como superar barreras culturales y sociales que dificultan su acceso a los servicios de salud mental. En cuanto a las personas con trastornos por uso de sustancias\, debatiremos sobre las ventajas e inconvenientes de acercar las desintoxicaciones al domicilio. \nA través de las varias comunicaciones orales y mesas de debate\, nuestro objetivo es intercambiar conocimientos y experiencias que impulsan una atención más humana\, accesible y eficaz. \nOs invitamos a participar activamente\, porque solo juntos podemos construir comunidades que cuidan y apoyan aquienes más lo necesitan. \nPROGRAMA \nINSCRIPCIONES
URL:https://www.fundaciohospitalariessantboi.org/esdeveniment/iv-jornadas-de-hospitalizacion-y-atencion-domiciliaria/
LOCATION:Auditori Barradas\, Rambla Just Oliveras\, 56\, L'Hospitalet de Llobregat\, Barcelona\, 08901\, Espanya
ATTACH;FMTTYPE=image/png:https://www.fundaciohospitalariessantboi.org/wp-content/uploads/2025/03/Banner-Intranet-81.png
END:VEVENT
BEGIN:VEVENT
DTSTART;TZID=Europe/Madrid:20250509T093000
DTEND;TZID=Europe/Madrid:20250509T110000
DTSTAMP:20260419T214731
CREATED:20250429T080649Z
LAST-MODIFIED:20250429T080840Z
UID:10000036-1746783000-1746788400@www.fundaciohospitalariessantboi.org
SUMMARY:Participa en el European Clean Up Day!
DESCRIPTION:El Servicio Prelaboral de la Unitat Polivalent de l’Hospitalet organiza una acción de limpieza en el Riu Llobregat\, adhiriéndose a la iniciativa Let’s Clean Up Europe. \n\n\nOs animamos a participar! Para hacerlo\, hace falta que contactáis con los organizadores a través del correo electrónico serveiprelaboraluph.hbmenni@hospitalarias.es o a través del teléfono 679 49 53 73.\n\n\n\nPROGRAMA
URL:https://www.fundaciohospitalariessantboi.org/esdeveniment/participa-en-el-european-clean-up-day/
LOCATION:Estació de Metro Hospital de Bellvitge\, 08907 L'Hospitalet de Llobregat\, Barcelona\, Espanya
ATTACH;FMTTYPE=image/png:https://www.fundaciohospitalariessantboi.org/wp-content/uploads/2025/04/Banner-Intranet-85.png
END:VEVENT
BEGIN:VEVENT
DTSTART;TZID=Europe/Madrid:20250522T080000
DTEND;TZID=Europe/Madrid:20250522T170000
DTSTAMP:20260419T214731
CREATED:20250320T104345Z
LAST-MODIFIED:20250328T090728Z
UID:10000027-1747900800-1747933200@www.fundaciohospitalariessantboi.org
SUMMARY:V Jornadas Catalanas de Hospitales de Día de Adultos de Salud Mental
DESCRIPTION:Laberintos del alma: Un viaje por el trastorno de la personalidad \nEn esta ocasión\, las V Jornadas Catalanas de Hospitales de Día de Adultos de Salud Mental centran el foco de trabajo en los trastornos de personalidad\, poniendo el énfasis en el Trastorno Límite de la Personalidad. \nSe propone así una oportunidad para todos aquellos profesionales interesados en profundizar en el conocimiento y abordaje de los trastornos\, reflexionando sobre el peso en nuestra sociedad de estos y su sintomatología. \nINSCRIPCIONES \nPROGRAMA
URL:https://www.fundaciohospitalariessantboi.org/esdeveniment/v-jornadas-catalanas-de-hospitales-de-dia-de-adultos-de-salud-mental/
LOCATION:Fundació Hospitalàries Barcelona\, Passeig de la Vall d’Hebron\, 107-117\, Barcelona\, Barcelona\, 08035\, Espanya
ATTACH;FMTTYPE=image/png:https://www.fundaciohospitalariessantboi.org/wp-content/uploads/2025/03/V-JORNADES-CATALANES-D´HOSPITALS-DE-DIA-D´ADULTS-DE-SALUT-MENTAL.png
END:VEVENT
BEGIN:VEVENT
DTSTART;TZID=Europe/Madrid:20250522T083000
DTEND;TZID=Europe/Madrid:20250522T133000
DTSTAMP:20260419T214731
CREATED:20250321T121814Z
LAST-MODIFIED:20250423T123937Z
UID:10000029-1747902600-1747920600@www.fundaciohospitalariessantboi.org
SUMMARY:II Jornada de Atención Intermedia en Psicogeriatría
DESCRIPTION:La mayor prevalencia de patologías que conlleva el envejecimiento de la población está planteando múltiples retos sanitarios específicos de este grupo de edad\, para los que en muchas ocasiones se cuenta con escasa experiencia previa. \nLa Psicogeriatría se ocupa de la Salud Mental de las personas mayores en el amplio espectro que va desde el envejecimiento saludable desde el punto de vista psíquico hasta la prevención\, diagnóstico y tratamiento de las patologías que afectan en este tramo de edad. Cubre un amplio rango de situaciones clínicas que incluyen entre otras el deterioro cognitivo y la demencia\, trastornos afectivos\, problemas de ansiedad\, trastornos de personalidad\, adicciones\, psicosis y las derivadas de la comorbilidad médica. Todas ellas plantean continuos retos al clínico\, que debe además conocer las especificidades de las diferentes modalidades de tratamiento a veces en situaciones complejas e incluso críticas. El abordaje multidisciplinar está en la base de la atención psicogeriátrica de calidad. \nDesde Fundació Hospitalàries Sant Boi realizamos esta II Jornada de Atención Intermedia en el ámbito de Psicogeriatría para promover el progreso científico de todas las disciplinas relacionadas con la salud y la enfermedad mental de las personas mayores\, el avance en las conceptualizaciones clínicas y los tratamientos\, la investigación y la formación de los profesionales desde el convencimiento de que es necesario contemplar la especificidad que la edad impone en todas estas cuestiones. \nPROGRAMA \nINSCRIPCIONES
URL:https://www.fundaciohospitalariessantboi.org/esdeveniment/ii-jornada-de-atencion-intermedia-en-psicogeriatria/
LOCATION:Sala d’Actes de la Fundació Hospitalàries Sant Boi\, C/ Dr. Antoni Pujadas 38\, Sant Boi de Llobregat\, Barcelona\, 08830\, Espanya
ATTACH;FMTTYPE=image/png:https://www.fundaciohospitalariessantboi.org/wp-content/uploads/2025/03/Banner-Intranet-82-1.png
END:VEVENT
END:VCALENDAR