BEGIN:VCALENDAR
VERSION:2.0
PRODID:-//Fundació Hospitalàries Sant Boi - ECPv6.15.15//NONSGML v1.0//EN
CALSCALE:GREGORIAN
METHOD:PUBLISH
X-WR-CALNAME:Fundació Hospitalàries Sant Boi
X-ORIGINAL-URL:https://www.fundaciohospitalariessantboi.org
X-WR-CALDESC:Eventos para Fundació Hospitalàries Sant Boi
REFRESH-INTERVAL;VALUE=DURATION:PT1H
X-Robots-Tag:noindex
X-PUBLISHED-TTL:PT1H
BEGIN:VTIMEZONE
TZID:Europe/Madrid
BEGIN:DAYLIGHT
TZOFFSETFROM:+0100
TZOFFSETTO:+0200
TZNAME:CEST
DTSTART:20240331T010000
END:DAYLIGHT
BEGIN:STANDARD
TZOFFSETFROM:+0200
TZOFFSETTO:+0100
TZNAME:CET
DTSTART:20241027T010000
END:STANDARD
BEGIN:DAYLIGHT
TZOFFSETFROM:+0100
TZOFFSETTO:+0200
TZNAME:CEST
DTSTART:20250330T010000
END:DAYLIGHT
BEGIN:STANDARD
TZOFFSETFROM:+0200
TZOFFSETTO:+0100
TZNAME:CET
DTSTART:20251026T010000
END:STANDARD
BEGIN:DAYLIGHT
TZOFFSETFROM:+0100
TZOFFSETTO:+0200
TZNAME:CEST
DTSTART:20260329T010000
END:DAYLIGHT
BEGIN:STANDARD
TZOFFSETFROM:+0200
TZOFFSETTO:+0100
TZNAME:CET
DTSTART:20261025T010000
END:STANDARD
END:VTIMEZONE
BEGIN:VEVENT
DTSTART;TZID=Europe/Madrid:20251007T100000
DTEND;TZID=Europe/Madrid:20251007T140000
DTSTAMP:20260419T142245
CREATED:20250917T105857Z
LAST-MODIFIED:20250917T105907Z
UID:10000057-1759831200-1759845600@www.fundaciohospitalariessantboi.org
SUMMARY:Celebración del 15º Aniversario de la Unidad Polivalente de l'Hospitalet
DESCRIPTION:La Unidad Polivalente de Salud Mental de l’Hospitalet celebra sus 15 años de funcionamiento con las personas usuarias\, familiares y profesionales implicados en la atención a la salud mental y el bienestar emocional de la ciudadanía. \n10 a 10.30 h – Bienvenida institucional \n10.30 a 11.30 h – Unidad Polivalente de L’Hospitalet. 15 años de atención comunitaria \n11.30 a 12 h – Recorrido por la Unidad \n12 a 13 h – Celebración
URL:https://www.fundaciohospitalariessantboi.org/esdeveniment/celebracion-del-15o-aniversario-de-la-unidad-polivalente-de-lhospitalet/
LOCATION:Unitat Polivalent de l’Hospitalet\, C/ Sant Rafael\, 11\, L'Hospitalet de Llobregat\, Barcelona\, 08905\, Espanya
ATTACH;FMTTYPE=image/png:https://www.fundaciohospitalariessantboi.org/wp-content/uploads/2025/09/polivalent-15-anys.png
END:VEVENT
BEGIN:VEVENT
DTSTART;TZID=Europe/Madrid:20251009T183000
DTEND;TZID=Europe/Madrid:20251009T200000
DTSTAMP:20260419T142245
CREATED:20250917T084234Z
LAST-MODIFIED:20250917T084438Z
UID:10000041-1760034600-1760040000@www.fundaciohospitalariessantboi.org
SUMMARY:Mesa Redonda: Mujeres y Salud Mental - Programación DMSM 2025
DESCRIPTION:Mesa Redonda: Mujeres y Salud Mental – Programación DMSM 2025 \nParticipación usuaria en 1a persona de Fundació Hospitalàries Sant Boi. \nAbierto al público general. Sin inscripción previa.
URL:https://www.fundaciohospitalariessantboi.org/esdeveniment/mesa-redonda-mujeres-y-salud-mental-programacion-dmsm-2025/
LOCATION:Biblioteca Jordi Rubió i Balaguer (sala d’actes)\, C/ Baldiri Aleu\, 6-8\, Sant Boi de Llobregat\, Barcelona\, 08830
ATTACH;FMTTYPE=image/png:https://www.fundaciohospitalariessantboi.org/wp-content/uploads/2025/09/Banner-Intranet-2025-09-17T103729.929.png
END:VEVENT
BEGIN:VEVENT
DTSTART;TZID=Europe/Madrid:20251010T100000
DTEND;TZID=Europe/Madrid:20251010T150000
DTSTAMP:20260419T142245
CREATED:20250917T093402Z
LAST-MODIFIED:20250917T093402Z
UID:10000043-1760090400-1760108400@www.fundaciohospitalariessantboi.org
SUMMARY:Exposición “Contrapunt: homenatge a Yayoi Kusama” – Programación DMSM 2025
DESCRIPTION:Exposición “Contrapunt: homenatge a Yayoi Kusama” – Programación DMSM 2025 \nPuntos\, calabazas\, flores…. ¿Sabías que Yayoi Kusama es una artista de 96 años que vive en un centro de salud mental des de los años ’70 en Japón? Ven a conocerlo todo sobre su obra y a celebrar el poder curativo del arte con nosotros! Arte\, sorpresas\, acción colaborativa\, mural en vivo\, música y mucho más. \n\nAbierto al público general. Sin inscripción previa.
URL:https://www.fundaciohospitalariessantboi.org/esdeveniment/exposicion-contrapunt-homenatge-a-yayoi-kusama-programacion-dmsm-2025/
LOCATION:Fundació Hospitalàries Sant Boi (porxo Unitats D-E)\, C/ Dr. Antoni Pujadas 38\, Sant Boi de Llobregat\, Barcelona\, 08830\, Espanya
ATTACH;FMTTYPE=image/png:https://www.fundaciohospitalariessantboi.org/wp-content/uploads/2025/09/Banner-Intranet-2025-09-17T103729.929-1.png
END:VEVENT
BEGIN:VEVENT
DTSTART;TZID=Europe/Madrid:20251010T110000
DTEND;TZID=Europe/Madrid:20251010T130000
DTSTAMP:20260419T142245
CREATED:20250918T143931Z
LAST-MODIFIED:20250918T143931Z
UID:10000059-1760094000-1760101200@www.fundaciohospitalariessantboi.org
SUMMARY:Presentación del cómic “Força” de Ferran Vidal – Programación DMSM 2025
DESCRIPTION:Presentación del cómic “Força” de Ferran Vidal – Programación DMSM 2025 \n¿Cómo es el día a día en un servicio de rehabilitación de drogodependencias? \n¡Se hará presentación del cómic\, debate\, exposiciones y mucho más!
URL:https://www.fundaciohospitalariessantboi.org/esdeveniment/presentacion-del-comic-forca-de-ferran-vidal-programacion-dmsm-2025/
LOCATION:CASD Granollers – Fundació Hospitalàries\, C/ Joan Camps i Giró\, 3\, Granollers\, Barcelona\, 08401\, Espanya
ATTACH;FMTTYPE=image/png:https://www.fundaciohospitalariessantboi.org/wp-content/uploads/2025/09/Banner-Intranet-2025-09-17T103729.929-1.png
END:VEVENT
BEGIN:VEVENT
DTSTART;TZID=Europe/Madrid:20251010T170000
DTEND;TZID=Europe/Madrid:20251010T200000
DTSTAMP:20260419T142245
CREATED:20250917T093947Z
LAST-MODIFIED:20250917T093947Z
UID:10000045-1760115600-1760126400@www.fundaciohospitalariessantboi.org
SUMMARY:Stand y talleres de Fundació Hospitalàries en el Festival M5 – Programación DMSM 2025
DESCRIPTION:Stand y talleres de Fundació Hospitalàries en el Festival M5 – Programación DMSM 2025 \nFestival M5 organizado por Parc Sanitari Sant Joan de Déu. \nContaremos con stands\, talleres\, charlas\, juegos interactivos\, actividades artísticas\, karaoke y concierto.
URL:https://www.fundaciohospitalariessantboi.org/esdeveniment/stand-y-talleres-de-fundacio-hospitalaries-en-el-festival-m5-programacion-dmsm-2025/
LOCATION:Parc de la Muntanyeta (amfiteatre)\, Ronda Santa Mont\, s/n\, Sant Boi de Llobregat\, Barcelona\, 08830\, Espanya
ATTACH;FMTTYPE=image/png:https://www.fundaciohospitalariessantboi.org/wp-content/uploads/2025/09/Banner-Intranet-2025-09-17T103729.929-1.png
END:VEVENT
BEGIN:VEVENT
DTSTART;TZID=Europe/Madrid:20251012T100000
DTEND;TZID=Europe/Madrid:20251012T130000
DTSTAMP:20260419T142245
CREATED:20250924T070027Z
LAST-MODIFIED:20250924T070027Z
UID:10000061-1760263200-1760274000@www.fundaciohospitalariessantboi.org
SUMMARY:Caminata por la Salud Mental en Granollers – Programación DMSM 2025
DESCRIPTION:El domingo 12 de octubre se celebra la 11ª edición de la Caminata por la Salud Mental\, en el marco de la celebración del Día Mundial de la Salud Mental\, que Granollers conmemora con una gran diversidad de actividades como charlas\, conferencias o presentaciones de libros. El objetivo es sensibilizar a la ciudadanía sobre la salud mental y luchar contra el estigma social que sufren las personas con enfermedades mentales. \nEl punto de salida de la caminata será en la plaza Corona a partir de las 10 h. \nSe podrá participar en dos posibles recorridos: uno de 8 km y uno de 4 km\, para público familiar\, que puedes completar con una visita al MURAL POR LA SALUD MENTAL\, situado en la calle Girona 121. El recorrido estará marcado desde la Plaza de la Corona. \nCONSULTA AQUÍ TODA LA INFORMACIÓN E ¡INSCRÍBETE!
URL:https://www.fundaciohospitalariessantboi.org/esdeveniment/caminata-por-la-salud-mental-en-granollers-programacion-dmsm-2025/
LOCATION:Plaça de la Corona\, Granollers\, Plaça de la Corona\, Granollers\, Barcelona\, 08402\, Espanya
ATTACH;FMTTYPE=image/png:https://www.fundaciohospitalariessantboi.org/wp-content/uploads/2025/09/Banner-Intranet-2025-09-24T085604.366.png
END:VEVENT
BEGIN:VEVENT
DTSTART;TZID=Europe/Madrid:20251013T110000
DTEND;TZID=Europe/Madrid:20251013T130000
DTSTAMP:20260419T142245
CREATED:20250917T094544Z
LAST-MODIFIED:20250917T094544Z
UID:10000047-1760353200-1760360400@www.fundaciohospitalariessantboi.org
SUMMARY:Concierto a piano a cargo de Alejandro Villanueva – Programación DMSM 2025
DESCRIPTION:Concierto a piano a cargo de Alejandro Villanueva\, usuario y pianista profesional. \nVillanueva oferirá un recital sobrevolando las emociones de Albéniz\, Chopin o Granados compartiendo el poder de la música en la salud mental. \nAbierto al público general. Entrada hasta aforo completo.
URL:https://www.fundaciohospitalariessantboi.org/esdeveniment/concierto-a-piano-a-cargo-de-alejandro-villanueva-programacion-dmsm-2025/
LOCATION:Sala d’Actes de la Fundació Hospitalàries Sant Boi\, C/ Dr. Antoni Pujadas 38\, Sant Boi de Llobregat\, Barcelona\, 08830\, Espanya
ATTACH;FMTTYPE=image/png:https://www.fundaciohospitalariessantboi.org/wp-content/uploads/2025/09/Banner-Intranet-2025-09-17T103729.929-1.png
END:VEVENT
BEGIN:VEVENT
DTSTART;TZID=Europe/Madrid:20251014T110000
DTEND;TZID=Europe/Madrid:20251014T130000
DTSTAMP:20260419T142245
CREATED:20250917T095053Z
LAST-MODIFIED:20250917T095053Z
UID:10000049-1760439600-1760446800@www.fundaciohospitalariessantboi.org
SUMMARY:Torneo de padel para la salud mental – Programación DMSM 2025
DESCRIPTION:Torneo de padel para la salud mental – Programación DMSM 2025 \nInscripciones hasta aforo completo: angelica.arenas@fundacionhospitalarias.org
URL:https://www.fundaciohospitalariessantboi.org/esdeveniment/torneo-de-padel-para-la-salud-mental-programacion-dmsm-2025/
LOCATION:Poliesportiu Balidiri Aleu\, C/ Baldiri Aleu\, 1-7\, Sant Boi de Llobregat\, Barcelona\, 08830\, Espanya
ATTACH;FMTTYPE=image/png:https://www.fundaciohospitalariessantboi.org/wp-content/uploads/2025/09/Banner-Intranet-2025-09-17T103729.929-1.png
END:VEVENT
BEGIN:VEVENT
DTSTART;TZID=Europe/Madrid:20251015T093000
DTEND;TZID=Europe/Madrid:20251015T143000
DTSTAMP:20260419T142245
CREATED:20251009T151201Z
LAST-MODIFIED:20251009T151233Z
UID:10000065-1760520600-1760538600@www.fundaciohospitalariessantboi.org
SUMMARY:Jornada “Vivir\, Decidir\, Participar: El camino hacia la comunidad” - Fundació Nou Camí
DESCRIPTION:Este año  Fundació Nou Camí celebra su 35º aniversario\, y quieren hacerlo compartiendo un espacio de reflexión\, aprendizaje y compromiso colectivo. Por ello\, nos invitan a la jornada “Vivir\, Decidir\, Participar: El camino hacia la comunidad”\, que tendrá lugar el próximo 15 de octubre de 2025\, de 09:30 a 14:30 h\, en el HUB Social Barcelona (Calle Girona\, 34\, Barcelona). \nDurante la jornada se abordaran temas clave como las medidas de apoyo a la capacidad jurídica\, la desinstitucionalización y la inclusión comunitaria de las personas con discapacidad\, con la participación de entidades y profesionales de referencia y participantes con experiencia en primera persona. \nPROGRAMA \nINSCRIPCIONES
URL:https://www.fundaciohospitalariessantboi.org/esdeveniment/11452/
LOCATION:HUB Social Barcelona\, Carrer de Girona\, 34\, Eixample\, Barcelona\, Barcelona\, 08010\, Espanya
ATTACH;FMTTYPE=image/png:https://www.fundaciohospitalariessantboi.org/wp-content/uploads/2025/10/Banner-Intranet-2025-10-09T170552.920.png
END:VEVENT
BEGIN:VEVENT
DTSTART;TZID=Europe/Madrid:20251016T110000
DTEND;TZID=Europe/Madrid:20251016T130000
DTSTAMP:20260419T142245
CREATED:20250917T095948Z
LAST-MODIFIED:20250917T102653Z
UID:10000053-1760612400-1760619600@www.fundaciohospitalariessantboi.org
SUMMARY:Caminata a Sant Ramón – Programación DMSM 2025
DESCRIPTION:Caminada a Sant Ramón – Programación DMSM 2025 \nSalida desde la puerta del hospital. \nAbierto al público general. Sin inscripción previa.
URL:https://www.fundaciohospitalariessantboi.org/esdeveniment/caminada-a-sant-ramon-programacion-dmsm-2025/
LOCATION:Fundació Hospitalàries Sant Boi\, C/ Dr. Antoni Pujadas 38\, Sant Boi de Llobregat\, Barcelona\, 08830\, Espanya
ATTACH;FMTTYPE=image/png:https://www.fundaciohospitalariessantboi.org/wp-content/uploads/2025/09/Banner-Intranet-2025-09-17T103729.929-1.png
END:VEVENT
BEGIN:VEVENT
DTSTART;TZID=Europe/Madrid:20251017T090000
DTEND;TZID=Europe/Madrid:20251017T140000
DTSTAMP:20260419T142245
CREATED:20250714T092447Z
LAST-MODIFIED:20250923T071933Z
UID:10000038-1760691600-1760709600@www.fundaciohospitalariessantboi.org
SUMMARY:I Jornada de Trabajo Social Sanitario - Fundació Hospitalàries Catalunya
DESCRIPTION:La I Jornada de Trabajo Social Sanitario de Fundació Hospitalàries Catalunya tendrá lugar el 17 de octubre de 2025 en el salón de actos de Fundació Hospitalàries Barcelona. Con el lema “Retos del trabajo social sanitario: una mirada desde la atención centrada en los derechos de la persona”\, el encuentro será un espacio para la reflexión\, de intercambio de experiencias y actualización en temas clave\, como los nuevos paradigmas en la atención social en salud mental y el proceso de acompañamiento desde el trabajo social sanitario. \nINSCRIPCIONES \nPROGRAMA
URL:https://www.fundaciohospitalariessantboi.org/esdeveniment/i-jornada-de-trabajo-social-sanitario-fundacio-hospitalaries-catalunya/
LOCATION:Fundació Hospitalàries Barcelona\, Passeig de la Vall d’Hebron\, 107-117\, Barcelona\, Barcelona\, 08035\, Espanya
ATTACH;FMTTYPE=image/png:https://www.fundaciohospitalariessantboi.org/wp-content/uploads/2025/03/Banner-Intranet-100.png
END:VEVENT
BEGIN:VEVENT
DTSTART;TZID=Europe/Madrid:20251017T110000
DTEND;TZID=Europe/Madrid:20251017T120000
DTSTAMP:20260419T142245
CREATED:20250917T095516Z
LAST-MODIFIED:20250917T095516Z
UID:10000051-1760698800-1760702400@www.fundaciohospitalariessantboi.org
SUMMARY:Zumba por la salud mental – Programación DMSM 2025
DESCRIPTION:¡Ven a bailar Zumba por la salud mental! \nAbierto al público general. Sin inscripción previa.
URL:https://www.fundaciohospitalariessantboi.org/esdeveniment/zumba-por-la-salud-mental-programacion-dmsm-2025/
LOCATION:Fundació Hospitalàries Sant Boi (pista esportiva)\, C/ Dr. Antoni Pujadas 38\, Sant Boi de Llobregat\, Barcelona\, 08830\, Espanya
ATTACH;FMTTYPE=image/png:https://www.fundaciohospitalariessantboi.org/wp-content/uploads/2025/09/Banner-Intranet-2025-09-17T103729.929-1.png
END:VEVENT
BEGIN:VEVENT
DTSTART;TZID=Europe/Madrid:20251022T160000
DTEND;TZID=Europe/Madrid:20251022T180000
DTSTAMP:20260419T142245
CREATED:20250917T102449Z
LAST-MODIFIED:20250917T102449Z
UID:10000055-1761148800-1761156000@www.fundaciohospitalariessantboi.org
SUMMARY:Proyección película “Votemos” y coloquio con la actriz Neus Sanz – Programación DMSM 2025
DESCRIPTION:Proyección película “Votemos” y coloquio posterior con la actriz Neus Sanz. \n¿Qué pasaría si en una junta de vecinos se informara de que un nuevo inquilino tiene problemas de salud mental? \nAbierto al público general. Entrada hasta aforo completo.
URL:https://www.fundaciohospitalariessantboi.org/esdeveniment/proyeccion-pelicula-votemos-y-coloquio-con-la-actriz-neus-sanz-programacion-dmsm-2025/
LOCATION:Sala d’Actes de la Fundació Hospitalàries Sant Boi\, C/ Dr. Antoni Pujadas 38\, Sant Boi de Llobregat\, Barcelona\, 08830\, Espanya
ATTACH;FMTTYPE=image/png:https://www.fundaciohospitalariessantboi.org/wp-content/uploads/2025/09/Banner-Intranet-2025-09-17T103729.929-1.png
END:VEVENT
BEGIN:VEVENT
DTSTART;TZID=Europe/Madrid:20251029T090000
DTEND;TZID=Europe/Madrid:20251029T140000
DTSTAMP:20260419T142245
CREATED:20251009T071025Z
LAST-MODIFIED:20251013T115303Z
UID:10000063-1761728400-1761746400@www.fundaciohospitalariessantboi.org
SUMMARY:IV Jornada de Residentes de Fundació Hospitalàries
DESCRIPTION:PROGRAMA\nINSCRIPCIONES
URL:https://www.fundaciohospitalariessantboi.org/esdeveniment/iv-jornada-de-residentes-de-fundacio-hospitalaries/
LOCATION:Sala d’Actes de la Fundació Hospitalàries Sant Boi\, C/ Dr. Antoni Pujadas 38\, Sant Boi de Llobregat\, Barcelona\, 08830\, Espanya
ATTACH;FMTTYPE=image/png:https://www.fundaciohospitalariessantboi.org/wp-content/uploads/2025/10/Banner-Intranet-2025-10-09T090811.792.png
END:VEVENT
END:VCALENDAR